Package: annotatr Version: 1.33.0 Command: /Library/Frameworks/R.framework/Resources/bin/R CMD check --install=check:annotatr.install-out.txt --library=/Library/Frameworks/R.framework/Resources/library --no-vignettes --timings annotatr_1.33.0.tar.gz StartedAt: 2025-02-19 18:04:18 -0500 (Wed, 19 Feb 2025) EndedAt: 2025-02-19 18:06:22 -0500 (Wed, 19 Feb 2025) EllapsedTime: 123.7 seconds RetCode: 0 Status: OK CheckDir: annotatr.Rcheck Warnings: 0