Package: annotatr Version: 1.34.0 Command: /Library/Frameworks/R.framework/Resources/bin/R CMD build --keep-empty-dirs --no-resave-data annotatr StartedAt: 2025-10-13 19:03:18 -0400 (Mon, 13 Oct 2025) EndedAt: 2025-10-13 19:05:41 -0400 (Mon, 13 Oct 2025) EllapsedTime: 143.7 seconds RetCode: 0 Status: OK PackageFile: annotatr_1.34.0.tar.gz PackageFileSize: 2.455 MiB