Package: annotatr Version: 1.34.0 Command: rm -rf annotatr.buildbin-libdir && mkdir annotatr.buildbin-libdir && /Users/biocbuild/BBS/utils/build-universal.sh annotatr_1.34.0.tar.gz /Library/Frameworks/R.framework/Resources/bin/R annotatr.buildbin-libdir StartedAt: 2025-10-15 17:24:21 -0400 (Wed, 15 Oct 2025) EndedAt: 2025-10-15 17:25:17 -0400 (Wed, 15 Oct 2025) EllapsedTime: 55.8 seconds RetCode: 0 Status: OK PackageFile: annotatr_1.34.0.tgz PackageFileSize: 2.68 MiB