Package: annotationTools Version: 1.81.0 Command: E:\biocbuild\bbs-3.21-bioc\R\bin\R.exe CMD INSTALL annotationTools StartedAt: 2025-02-18 15:26:52 -0500 (Tue, 18 Feb 2025) EndedAt: 2025-02-18 15:27:21 -0500 (Tue, 18 Feb 2025) EllapsedTime: 29.5 seconds RetCode: 0 Status: OK