Package: annotationTools Version: 1.81.0 Command: /home/biocbuild/bbs-3.21-bioc/R/bin/R CMD check --install=check:annotationTools.install-out.txt --library=/home/biocbuild/bbs-3.21-bioc/R/site-library --timings annotationTools_1.81.0.tar.gz StartedAt: 2025-02-18 19:50:36 -0500 (Tue, 18 Feb 2025) EndedAt: 2025-02-18 19:51:05 -0500 (Tue, 18 Feb 2025) EllapsedTime: 29.0 seconds RetCode: 0 Status: OK CheckDir: annotationTools.Rcheck Warnings: 0