Package: annotate Version: 1.85.0 Command: chmod a+r annotate -R && E:\biocbuild\bbs-3.21-bioc\R\bin\R.exe CMD build --keep-empty-dirs --no-resave-data annotate StartedAt: 2025-02-19 17:13:19 -0500 (Wed, 19 Feb 2025) EndedAt: 2025-02-19 17:16:06 -0500 (Wed, 19 Feb 2025) EllapsedTime: 167.7 seconds RetCode: 0 Status: OK PackageFile: annotate_1.85.0.tar.gz PackageFileSize: 1.696 MiB