Package: annotate Version: 1.86.1 Command: /home/biocbuild/bbs-3.21-bioc/R/bin/R CMD INSTALL annotate StartedAt: 2025-10-01 15:29:49 -0400 (Wed, 01 Oct 2025) EndedAt: 2025-10-01 15:30:05 -0400 (Wed, 01 Oct 2025) EllapsedTime: 16.8 seconds RetCode: 0 Status: OK