Package: annotate Version: 1.86.1 Command: /Library/Frameworks/R.framework/Resources/bin/R CMD build --keep-empty-dirs --no-resave-data annotate StartedAt: 2025-10-13 17:03:00 -0400 (Mon, 13 Oct 2025) EndedAt: 2025-10-13 17:05:35 -0400 (Mon, 13 Oct 2025) EllapsedTime: 155.3 seconds RetCode: 0 Status: OK PackageFile: annotate_1.86.1.tar.gz PackageFileSize: 1.784 MiB