Package: annotate Version: 1.85.0 Command: /Library/Frameworks/R.framework/Resources/bin/R CMD INSTALL annotate StartedAt: 2025-02-19 15:15:25 -0500 (Wed, 19 Feb 2025) EndedAt: 2025-02-19 15:15:47 -0500 (Wed, 19 Feb 2025) EllapsedTime: 22.3 seconds RetCode: 0 Status: OK