Package: annotate Version: 1.85.0 Command: /Library/Frameworks/R.framework/Resources/bin/R CMD build --keep-empty-dirs --no-resave-data annotate StartedAt: 2025-02-19 15:52:09 -0500 (Wed, 19 Feb 2025) EndedAt: 2025-02-19 15:53:35 -0500 (Wed, 19 Feb 2025) EllapsedTime: 86.0 seconds RetCode: 0 Status: OK PackageFile: annotate_1.85.0.tar.gz PackageFileSize: 1.786 MiB