Package: annotate Version: 1.85.0 Command: /Library/Frameworks/R.framework/Resources/bin/R CMD check --install=check:annotate.install-out.txt --library=/Library/Frameworks/R.framework/Resources/library --no-vignettes --timings annotate_1.85.0.tar.gz StartedAt: 2025-02-19 18:03:43 -0500 (Wed, 19 Feb 2025) EndedAt: 2025-02-19 18:05:18 -0500 (Wed, 19 Feb 2025) EllapsedTime: 95.3 seconds RetCode: 0 Status: OK CheckDir: annotate.Rcheck Warnings: 0