Package: annotate Version: 1.86.1 Command: /Library/Frameworks/R.framework/Resources/bin/R CMD INSTALL annotate StartedAt: 2025-09-29 15:54:45 -0400 (Mon, 29 Sep 2025) EndedAt: 2025-09-29 15:55:04 -0400 (Mon, 29 Sep 2025) EllapsedTime: 18.1 seconds RetCode: 0 Status: OK