Package: annotate Version: 1.86.1 Command: /Library/Frameworks/R.framework/Resources/bin/R CMD build --keep-empty-dirs --no-resave-data annotate StartedAt: 2025-09-29 19:07:36 -0400 (Mon, 29 Sep 2025) EndedAt: 2025-09-29 19:09:14 -0400 (Mon, 29 Sep 2025) EllapsedTime: 98.3 seconds RetCode: 0 Status: OK PackageFile: annotate_1.86.1.tar.gz PackageFileSize: 1.785 MiB