Package: annaffy Version: 1.79.0 Command: chmod a+r annaffy -R && E:\biocbuild\bbs-3.21-bioc\R\bin\R.exe CMD build --keep-empty-dirs --no-resave-data annaffy StartedAt: 2025-02-20 17:13:22 -0500 (Thu, 20 Feb 2025) EndedAt: 2025-02-20 17:14:18 -0500 (Thu, 20 Feb 2025) EllapsedTime: 57.0 seconds RetCode: 0 Status: OK PackageFile: annaffy_1.79.0.tar.gz PackageFileSize: 202.1 KiB