Package: annaffy Version: 1.79.0 Command: rm -rf annaffy.buildbin-libdir && mkdir annaffy.buildbin-libdir && E:\biocbuild\bbs-3.21-bioc\R\bin\R.exe CMD INSTALL --build --library=annaffy.buildbin-libdir annaffy_1.79.0.tar.gz StartedAt: 2025-02-21 07:32:26 -0500 (Fri, 21 Feb 2025) EndedAt: 2025-02-21 07:33:15 -0500 (Fri, 21 Feb 2025) EllapsedTime: 49.8 seconds RetCode: 0 Status: OK PackageFile: annaffy_1.79.0.zip PackageFileSize: 594.4 KiB