Package: annaffy Version: 1.79.0 Command: rm -rf annaffy.buildbin-libdir && mkdir annaffy.buildbin-libdir && /Users/biocbuild/BBS/utils/build-universal.sh annaffy_1.79.0.tar.gz /Library/Frameworks/R.framework/Resources/bin/R annaffy.buildbin-libdir StartedAt: 2025-02-20 22:10:04 -0500 (Thu, 20 Feb 2025) EndedAt: 2025-02-20 22:10:12 -0500 (Thu, 20 Feb 2025) EllapsedTime: 8.2 seconds RetCode: 0 Status: OK PackageFile: annaffy_1.79.0.tgz PackageFileSize: 707.9 KiB