Package: animalcules Version: 1.23.0 Command: E:\biocbuild\bbs-3.21-bioc\R\bin\R.exe CMD INSTALL animalcules StartedAt: 2025-02-20 16:13:43 -0500 (Thu, 20 Feb 2025) EndedAt: 2025-02-20 16:14:50 -0500 (Thu, 20 Feb 2025) EllapsedTime: 67.1 seconds RetCode: 0 Status: OK