Package: animalcules Version: 1.23.0 Command: E:\biocbuild\bbs-3.21-bioc\R\bin\R.exe CMD check --no-multiarch --install=check:animalcules.install-out.txt --library=E:\biocbuild\bbs-3.21-bioc\R\library --no-vignettes --timings animalcules_1.23.0.tar.gz StartedAt: 2025-02-20 22:46:17 -0500 (Thu, 20 Feb 2025) EndedAt: 2025-02-20 22:51:39 -0500 (Thu, 20 Feb 2025) EllapsedTime: 321.7 seconds RetCode: 0 Status: OK CheckDir: animalcules.Rcheck Warnings: 0