Package: animalcules Version: 1.23.0 Command: rm -rf animalcules.buildbin-libdir && mkdir animalcules.buildbin-libdir && E:\biocbuild\bbs-3.21-bioc\R\bin\R.exe CMD INSTALL --build --library=animalcules.buildbin-libdir animalcules_1.23.0.tar.gz StartedAt: 2025-02-21 07:32:24 -0500 (Fri, 21 Feb 2025) EndedAt: 2025-02-21 07:33:37 -0500 (Fri, 21 Feb 2025) EllapsedTime: 72.7 seconds RetCode: 0 Status: OK PackageFile: animalcules_1.23.0.zip PackageFileSize: 3.33 MiB