Package: animalcules Version: 1.23.0 Command: /home/biocbuild/bbs-3.21-bioc/R/bin/R CMD build --keep-empty-dirs --no-resave-data animalcules StartedAt: 2025-02-20 16:25:27 -0500 (Thu, 20 Feb 2025) EndedAt: 2025-02-20 16:26:30 -0500 (Thu, 20 Feb 2025) EllapsedTime: 63.1 seconds RetCode: 0 Status: OK PackageFile: animalcules_1.23.0.tar.gz PackageFileSize: 3.392 MiB