Package: animalcules Version: 1.23.0 Command: /Library/Frameworks/R.framework/Resources/bin/R CMD INSTALL animalcules StartedAt: 2025-02-20 15:36:17 -0500 (Thu, 20 Feb 2025) EndedAt: 2025-02-20 15:37:02 -0500 (Thu, 20 Feb 2025) EllapsedTime: 44.5 seconds RetCode: 0 Status: OK