Package: animalcules Version: 1.23.0 Command: /Library/Frameworks/R.framework/Resources/bin/R CMD check --install=check:animalcules.install-out.txt --library=/Library/Frameworks/R.framework/Resources/library --no-vignettes --timings animalcules_1.23.0.tar.gz StartedAt: 2025-02-20 18:02:07 -0500 (Thu, 20 Feb 2025) EndedAt: 2025-02-20 18:03:47 -0500 (Thu, 20 Feb 2025) EllapsedTime: 100.4 seconds RetCode: 0 Status: OK CheckDir: animalcules.Rcheck Warnings: 0