Package: animalcules Version: 1.23.0 Command: /Library/Frameworks/R.framework/Resources/bin/R CMD build --keep-empty-dirs --no-resave-data animalcules StartedAt: 2025-02-20 15:33:01 -0500 (Thu, 20 Feb 2025) EndedAt: 2025-02-20 15:33:26 -0500 (Thu, 20 Feb 2025) EllapsedTime: 25.3 seconds RetCode: 0 Status: OK PackageFile: animalcules_1.23.0.tar.gz PackageFileSize: 3.288 MiB