Package: amplican Version: 1.29.0 Command: E:\biocbuild\bbs-3.21-bioc\R\bin\R.exe CMD INSTALL amplican StartedAt: 2025-02-20 16:35:27 -0500 (Thu, 20 Feb 2025) EndedAt: 2025-02-20 16:36:55 -0500 (Thu, 20 Feb 2025) EllapsedTime: 87.6 seconds RetCode: 0 Status: OK