Package: amplican Version: 1.29.0 Command: E:\biocbuild\bbs-3.21-bioc\R\bin\R.exe CMD check --no-multiarch --install=check:amplican.install-out.txt --library=E:\biocbuild\bbs-3.21-bioc\R\library --no-vignettes --timings amplican_1.29.0.tar.gz StartedAt: 2025-02-20 22:44:54 -0500 (Thu, 20 Feb 2025) EndedAt: 2025-02-20 22:48:35 -0500 (Thu, 20 Feb 2025) EllapsedTime: 220.7 seconds RetCode: 0 Status: OK CheckDir: amplican.Rcheck Warnings: 0