Package: amplican Version: 1.29.0 Command: /Library/Frameworks/R.framework/Resources/bin/R CMD check --install=check:amplican.install-out.txt --library=/Library/Frameworks/R.framework/Resources/library --no-vignettes --timings amplican_1.29.0.tar.gz StartedAt: 2025-02-20 18:49:02 -0500 (Thu, 20 Feb 2025) EndedAt: 2025-02-20 18:52:15 -0500 (Thu, 20 Feb 2025) EllapsedTime: 192.3 seconds RetCode: 0 Status: OK CheckDir: amplican.Rcheck Warnings: 0