Package: altcdfenvs Version: 2.69.0 Command: E:\biocbuild\bbs-3.21-bioc\R\bin\R.exe CMD INSTALL altcdfenvs StartedAt: 2025-02-19 15:36:47 -0500 (Wed, 19 Feb 2025) EndedAt: 2025-02-19 15:37:24 -0500 (Wed, 19 Feb 2025) EllapsedTime: 37.2 seconds RetCode: 0 Status: OK