Package: altcdfenvs Version: 2.69.0 Command: /Library/Frameworks/R.framework/Resources/bin/R CMD INSTALL altcdfenvs StartedAt: 2025-02-19 15:09:08 -0500 (Wed, 19 Feb 2025) EndedAt: 2025-02-19 15:09:29 -0500 (Wed, 19 Feb 2025) EllapsedTime: 21.4 seconds RetCode: 0 Status: OK