Package: altcdfenvs Version: 2.69.0 Command: /Library/Frameworks/R.framework/Resources/bin/R CMD build --keep-empty-dirs --no-resave-data altcdfenvs StartedAt: 2025-02-19 15:51:44 -0500 (Wed, 19 Feb 2025) EndedAt: 2025-02-19 15:52:39 -0500 (Wed, 19 Feb 2025) EllapsedTime: 55.0 seconds RetCode: 0 Status: OK PackageFile: altcdfenvs_2.69.0.tar.gz PackageFileSize: 667.6 KiB