Package: altcdfenvs Version: 2.69.0 Command: /home/biocbuild/R/R/bin/R CMD INSTALL altcdfenvs StartedAt: 2025-01-29 19:38:20 -0000 (Wed, 29 Jan 2025) EndedAt: 2025-01-29 19:38:40 -0000 (Wed, 29 Jan 2025) EllapsedTime: 19.7 seconds RetCode: 0 Status: OK