Package: altcdfenvs Version: 2.69.0 Command: /home/biocbuild/R/R/bin/R CMD build --keep-empty-dirs --no-resave-data altcdfenvs StartedAt: 2025-01-29 20:48:25 -0000 (Wed, 29 Jan 2025) EndedAt: 2025-01-29 20:49:28 -0000 (Wed, 29 Jan 2025) EllapsedTime: 63.0 seconds RetCode: 0 Status: OK PackageFile: altcdfenvs_2.69.0.tar.gz PackageFileSize: 668.3 KiB