Package: altcdfenvs Version: 2.69.0 Command: rm -rf altcdfenvs.buildbin-libdir && mkdir altcdfenvs.buildbin-libdir && /Users/biocbuild/BBS/utils/build-universal.sh altcdfenvs_2.69.0.tar.gz /Library/Frameworks/R.framework/Resources/bin/R altcdfenvs.buildbin-libdir StartedAt: 2025-02-20 22:10:00 -0500 (Thu, 20 Feb 2025) EndedAt: 2025-02-20 22:10:07 -0500 (Thu, 20 Feb 2025) EllapsedTime: 7.2 seconds RetCode: 0 Status: OK PackageFile: altcdfenvs_2.69.0.tgz PackageFileSize: 1.101 MiB