Package: alevinQC Version: 1.23.1 Command: rm -rf alevinQC.buildbin-libdir && mkdir alevinQC.buildbin-libdir && E:\biocbuild\bbs-3.21-bioc\R\bin\R.exe CMD INSTALL --build --library=alevinQC.buildbin-libdir alevinQC_1.23.1.tar.gz StartedAt: 2025-02-20 07:14:27 -0500 (Thu, 20 Feb 2025) EndedAt: 2025-02-20 07:15:20 -0500 (Thu, 20 Feb 2025) EllapsedTime: 53.1 seconds RetCode: 0 Status: OK PackageFile: alevinQC_1.23.1.zip PackageFileSize: 7.755 MiB