Package: alabaster Version: 1.7.0 Command: rm -rf alabaster.buildbin-libdir && mkdir alabaster.buildbin-libdir && E:\biocbuild\bbs-3.21-bioc\R\bin\R.exe CMD INSTALL --build --library=alabaster.buildbin-libdir alabaster_1.7.0.tar.gz StartedAt: 2025-02-20 07:13:53 -0500 (Thu, 20 Feb 2025) EndedAt: 2025-02-20 07:14:53 -0500 (Thu, 20 Feb 2025) EllapsedTime: 60.4 seconds RetCode: 0 Status: OK PackageFile: alabaster_1.7.0.zip PackageFileSize: 224.8 KiB