Package: alabaster.vcf Version: 1.7.0 Command: /home/biocbuild/bbs-3.21-bioc/R/bin/R CMD INSTALL alabaster.vcf StartedAt: 2025-02-17 15:55:13 -0500 (Mon, 17 Feb 2025) EndedAt: 2025-02-17 15:55:57 -0500 (Mon, 17 Feb 2025) EllapsedTime: 44.1 seconds RetCode: 0 Status: OK