Package: alabaster.vcf Version: 1.7.0 Command: /Library/Frameworks/R.framework/Resources/bin/R CMD check --install=check:alabaster.vcf.install-out.txt --library=/Library/Frameworks/R.framework/Resources/library --no-vignettes --timings alabaster.vcf_1.7.0.tar.gz StartedAt: 2025-02-17 17:59:28 -0500 (Mon, 17 Feb 2025) EndedAt: 2025-02-17 18:01:44 -0500 (Mon, 17 Feb 2025) EllapsedTime: 135.7 seconds RetCode: 0 Status: OK CheckDir: alabaster.vcf.Rcheck Warnings: 0