Package: alabaster.vcf Version: 1.7.0 Command: /Library/Frameworks/R.framework/Resources/bin/R CMD build --keep-empty-dirs --no-resave-data alabaster.vcf StartedAt: 2025-02-17 15:32:27 -0500 (Mon, 17 Feb 2025) EndedAt: 2025-02-17 15:32:51 -0500 (Mon, 17 Feb 2025) EllapsedTime: 24.3 seconds RetCode: 0 Status: OK PackageFile: alabaster.vcf_1.7.0.tar.gz PackageFileSize: 223 KiB