Package: alabaster.string Version: 1.7.0 Command: /home/biocbuild/bbs-3.21-bioc/R/bin/R CMD check --install=check:alabaster.string.install-out.txt --library=/home/biocbuild/bbs-3.21-bioc/R/site-library --timings alabaster.string_1.7.0.tar.gz StartedAt: 2025-02-19 19:53:44 -0500 (Wed, 19 Feb 2025) EndedAt: 2025-02-19 19:55:05 -0500 (Wed, 19 Feb 2025) EllapsedTime: 81.1 seconds RetCode: 0 Status: OK CheckDir: alabaster.string.Rcheck Warnings: 0