Package: alabaster.string Version: 1.7.0 Command: /Library/Frameworks/R.framework/Resources/bin/R CMD build --keep-empty-dirs --no-resave-data alabaster.string StartedAt: 2025-02-20 15:51:00 -0500 (Thu, 20 Feb 2025) EndedAt: 2025-02-20 15:51:20 -0500 (Thu, 20 Feb 2025) EllapsedTime: 19.4 seconds RetCode: 0 Status: OK PackageFile: alabaster.string_1.7.0.tar.gz PackageFileSize: 220.2 KiB