Package: alabaster.spatial Version: 1.7.1 Command: /home/biocbuild/bbs-3.21-bioc/R/bin/R CMD check --install=check:alabaster.spatial.install-out.txt --library=/home/biocbuild/bbs-3.21-bioc/R/site-library --timings alabaster.spatial_1.7.1.tar.gz StartedAt: 2025-02-19 19:53:44 -0500 (Wed, 19 Feb 2025) EndedAt: 2025-02-19 19:57:34 -0500 (Wed, 19 Feb 2025) EllapsedTime: 230.4 seconds RetCode: 0 Status: OK CheckDir: alabaster.spatial.Rcheck Warnings: 0