Package: alabaster.se Version: 1.7.0 Command: /home/biocbuild/bbs-3.21-bioc/R/bin/R CMD INSTALL alabaster.se StartedAt: 2025-02-20 15:50:18 -0500 (Thu, 20 Feb 2025) EndedAt: 2025-02-20 15:50:43 -0500 (Thu, 20 Feb 2025) EllapsedTime: 25.8 seconds RetCode: 0 Status: OK