Package: alabaster.se Version: 1.7.0 Command: /Library/Frameworks/R.framework/Resources/bin/R CMD build --keep-empty-dirs --no-resave-data alabaster.se StartedAt: 2025-02-20 15:50:57 -0500 (Thu, 20 Feb 2025) EndedAt: 2025-02-20 15:51:37 -0500 (Thu, 20 Feb 2025) EllapsedTime: 40.0 seconds RetCode: 0 Status: OK PackageFile: alabaster.se_1.7.0.tar.gz PackageFileSize: 225 KiB