Package: alabaster.se Version: 1.7.0 Command: rm -rf alabaster.se.buildbin-libdir && mkdir alabaster.se.buildbin-libdir && /Users/biocbuild/BBS/utils/build-universal.sh alabaster.se_1.7.0.tar.gz /Library/Frameworks/R.framework/Resources/bin/R alabaster.se.buildbin-libdir StartedAt: 2025-02-21 00:18:38 -0500 (Fri, 21 Feb 2025) EndedAt: 2025-02-21 00:19:16 -0500 (Fri, 21 Feb 2025) EllapsedTime: 37.9 seconds RetCode: 0 Status: OK PackageFile: alabaster.se_1.7.0.tgz PackageFileSize: 296.4 KiB