Package: alabaster.se Version: 1.7.0 Command: /Library/Frameworks/R.framework/Resources/bin/R CMD INSTALL alabaster.se StartedAt: 2025-02-20 15:26:14 -0500 (Thu, 20 Feb 2025) EndedAt: 2025-02-20 15:26:24 -0500 (Thu, 20 Feb 2025) EllapsedTime: 10.7 seconds RetCode: 0 Status: OK