Package: alabaster.se Version: 1.7.0 Command: /Library/Frameworks/R.framework/Resources/bin/R CMD check --install=check:alabaster.se.install-out.txt --library=/Library/Frameworks/R.framework/Resources/library --no-vignettes --timings alabaster.se_1.7.0.tar.gz StartedAt: 2025-02-20 18:00:49 -0500 (Thu, 20 Feb 2025) EndedAt: 2025-02-20 18:02:05 -0500 (Thu, 20 Feb 2025) EllapsedTime: 75.9 seconds RetCode: 0 Status: OK CheckDir: alabaster.se.Rcheck Warnings: 0