Package: alabaster.schemas Version: 1.7.0 Command: /home/biocbuild/bbs-3.21-bioc/R/bin/R CMD INSTALL alabaster.schemas StartedAt: 2025-02-20 15:04:26 -0500 (Thu, 20 Feb 2025) EndedAt: 2025-02-20 15:04:29 -0500 (Thu, 20 Feb 2025) EllapsedTime: 2.5 seconds RetCode: 0 Status: OK