Package: alabaster.schemas Version: 1.7.0 Command: /Library/Frameworks/R.framework/Resources/bin/R CMD INSTALL alabaster.schemas StartedAt: 2025-02-20 15:02:53 -0500 (Thu, 20 Feb 2025) EndedAt: 2025-02-20 15:03:08 -0500 (Thu, 20 Feb 2025) EllapsedTime: 15.0 seconds RetCode: 0 Status: OK