Package: alabaster.schemas Version: 1.7.0 Command: /Library/Frameworks/R.framework/Resources/bin/R CMD build --keep-empty-dirs --no-resave-data alabaster.schemas StartedAt: 2025-02-20 15:50:56 -0500 (Thu, 20 Feb 2025) EndedAt: 2025-02-20 15:51:02 -0500 (Thu, 20 Feb 2025) EllapsedTime: 5.7 seconds RetCode: 0 Status: OK PackageFile: alabaster.schemas_1.7.0.tar.gz PackageFileSize: 239.9 KiB