Package: alabaster.schemas Version: 1.7.0 Command: rm -rf alabaster.schemas.buildbin-libdir && mkdir alabaster.schemas.buildbin-libdir && /Users/biocbuild/BBS/utils/build-universal.sh alabaster.schemas_1.7.0.tar.gz /Library/Frameworks/R.framework/Resources/bin/R alabaster.schemas.buildbin-libdir StartedAt: 2025-02-21 00:18:37 -0500 (Fri, 21 Feb 2025) EndedAt: 2025-02-21 00:18:43 -0500 (Fri, 21 Feb 2025) EllapsedTime: 5.8 seconds RetCode: 0 Status: OK PackageFile: alabaster.schemas_1.7.0.tgz PackageFileSize: 245.1 KiB