Package: alabaster.sce Version: 1.7.0 Command: /home/biocbuild/bbs-3.21-bioc/R/bin/R CMD INSTALL alabaster.sce StartedAt: 2025-02-17 15:35:10 -0500 (Mon, 17 Feb 2025) EndedAt: 2025-02-17 15:35:37 -0500 (Mon, 17 Feb 2025) EllapsedTime: 26.9 seconds RetCode: 0 Status: OK